BEGIN:VCALENDAR
VERSION:2.0
PRODID:-//wp-events-plugin.com//7.2.3.1//EN
BEGIN:VEVENT
UID:260@cursesorientacio.cat
DTSTART:20260727T220000Z
DTEND:20260731T220000Z
DTSTAMP:20260422T110207Z
URL:https://cursesorientacio.cat/es/curse/fisu-world-university-championsh
 ip-orienteering/
SUMMARY:FISU World University Championship Orienteering
DESCRIPTION:
ATTACH;FMTTYPE=image/jpeg:https://cursesorientacio.cat/wp-content/uploads/
 2026/04/orienteeringlogo-univers2026.png
CATEGORIES:O-PEU
END:VEVENT
END:VCALENDAR