BEGIN:VCALENDAR
VERSION:2.0
PRODID:-//wp-events-plugin.com//7.2.3.1//EN
BEGIN:VEVENT
UID:266@cursesorientacio.cat
DTSTART:20260902T220000Z
DTEND:20260905T220000Z
DTSTAMP:20260422T114207Z
URL:https://cursesorientacio.cat/ca/curse/vienna-orienteering-challenge-sp
 rint-weekend-2026/
SUMMARY:Vienna Orienteering Challenge Sprint Weekend 2026
DESCRIPTION:
ATTACH;FMTTYPE=image/jpeg:https://cursesorientacio.cat/wp-content/uploads/
 2026/04/viena-26.png
CATEGORIES:O-PEU,Training, entrenaments, i altres esdeveniments
END:VEVENT
END:VCALENDAR