BEGIN:VCALENDAR
VERSION:2.0
PRODID:-//wp-events-plugin.com//7.2.3.1//EN
BEGIN:VEVENT
UID:241@cursesorientacio.cat
DTSTART:20260430T220000Z
DTEND:20260430T220000Z
DTSTAMP:20260227T145939Z
URL:https://cursesorientacio.cat/ca/curse/v-cursa-de-cardona-lliga-bergued
 a-o/
SUMMARY:V Cursa de Cardona - Lliga Berguedà O
DESCRIPTION:
ATTACH;FMTTYPE=image/jpeg:https://cursesorientacio.cat/wp-content/uploads/
 2026/02/Cartell-Lliga-Bergueda-O-2026.png
CATEGORIES:O-PEU
END:VEVENT
END:VCALENDAR