BEGIN:VCALENDAR
VERSION:2.0
PRODID:-//wp-events-plugin.com//7.2.3.1//EN
BEGIN:VEVENT
UID:270@cursesorientacio.cat
DTSTART:20260816T220000Z
DTEND:20260822T220000Z
DTSTAMP:20260422T221551Z
URL:https://cursesorientacio.cat/ca/curse/o-tech-urbasa-navarra/
SUMMARY:O TECH - URBASA (NAVARRA) + LIGA NORTE
DESCRIPTION:
ATTACH;FMTTYPE=image/jpeg:https://cursesorientacio.cat/wp-content/uploads/
 2026/04/entrenos-urbasa-covaleda-26.png
CATEGORIES:Training, entrenaments, i altres esdeveniments
END:VEVENT
END:VCALENDAR