BEGIN:VCALENDAR
VERSION:2.0
PRODID:-//wp-events-plugin.com//7.2.3.1//EN
BEGIN:VEVENT
UID:242@cursesorientacio.cat
DTSTART:20260529T220000Z
DTEND:20260529T220000Z
DTSTAMP:20260227T150058Z
URL:https://cursesorientacio.cat/ca/curse/iii-cursa-del-circuit-dolvan-lli
 ga-bergueda-o/
SUMMARY:III Cursa del circuit d'Olvan - Lliga Berguedà O
DESCRIPTION:
ATTACH;FMTTYPE=image/jpeg:https://cursesorientacio.cat/wp-content/uploads/
 2026/02/Cartell-Lliga-Bergueda-O-2026.png
CATEGORIES:O-PEU
END:VEVENT
END:VCALENDAR