BEGIN:VCALENDAR
VERSION:2.0
PRODID:-//wp-events-plugin.com//7.2.3.1//EN
BEGIN:VEVENT
UID:267@cursesorientacio.cat
DTSTART:20260630T220000Z
DTEND:20260704T220000Z
DTSTAMP:20260422T114940Z
URL:https://cursesorientacio.cat/ca/curse/fjord-o-noruega/
SUMMARY:FJORD-O    (Noruega)
DESCRIPTION:
ATTACH;FMTTYPE=image/jpeg:https://cursesorientacio.cat/wp-content/uploads/
 2026/04/fjord-26.png
CATEGORIES:O-PEU,Training, entrenaments, i altres esdeveniments
END:VEVENT
END:VCALENDAR